Workbook

Sheet Entry Form 
B4: Britannia Cup Official Entry Form
B5: All completed forms and any queries should be sent to britannia.cup@iceskating.org.uk
B7: Team Name
B8: Category
B10: Name of Club
B11: City
B12: Country
B14: Contact Email Address 1 | H14: Checklist
B15: Contact Email Address 2 (Optional)
B17: Name of Coach 1 | H17: Music Form
B18: Name of Coach 2 (Optional) | H18: FALSE
B20: Name of Team Leader (Optional) | H20: Planned Programme Contents
H21: FALSE
H23: Picture & Team Bio
H24: FALSE
B27: All teams will be issued with an invoice within 7 days of receipt of their entry form. Payment should be made via bank transfer or card within 7 days of it being received. All completed forms and any queries should be sent to britannia.cup@iceskating.org.uk
B34: Britannia Cup
B35: Skaters Details
B37: Please identify the team captain with a C, male skaters with a M, alternates with an A, and all skaters outside the age category with*.
B38: First Name | C38: Surname | D38: Identifying Factors | E38: Skills Test Level - (GB skaters only) | F38: Skaters BIS Number (GB Skaters only) | G38: Citizenship | H38: Country | I38: Date of Birth (DD/MM/YYYY)
A39: 1
A40: 2
A41: 3
A42: 4
A43: 5
A44: 6
A45: 7
A46: 8
A47: 9
A48: 10
A49: 11
A50: 12
... A58: 20

Sheet Declaration 
B1: Britannia Cup
B2: Official Entry Form
B4: Team Name | C4: ='Entry Form '!D7 -> 0
B5: Category | C5: ='Entry Form '!D8 -> 0
A7: This declaration must be signed, either by the skater if over 18 years of age, or by a parent or guardian if the skater is under 18 years of age. It must be returned by the closing date of 1st December 2024. By signing this form, I give permission for the official photographer to take photos and/or videos at Britannia Cup. I also understand NO OTHER PERSON SHOULD DO THIS. I have read and agree to abide by the rules of the event and to observe the rules and directions of British Ice Skating. Note: This form will replicatet the information entered on the Entry Form. Please sent photo/scan of the signed form to Britannia.Cup@iceskating.org.uk no later than the closing date.
B12: First Name | C12: Surname | D12: DOB | E12: Signature of Skater | F12: Signature (Parent/ Guardian if skater under 18)
A13: 1 | B13: ='Entry Form '!B39 -> 0 | C13: ='Entry Form '!C39 -> 0 | D13: ='Entry Form '!I39 -> 0
A14: 2 | B14: ='Entry Form '!B40 -> 0 | C14: ='Entry Form '!C40 -> 0 | D14: ='Entry Form '!I40 -> 0
A15: 3 | B15: ='Entry Form '!B41 -> 0 | C15: ='Entry Form '!C41 -> 0 | D15: ='Entry Form '!I41 -> 0
A16: 4 | B16: ='Entry Form '!B42 -> 0 | C16: ='Entry Form '!C42 -> 0 | D16: ='Entry Form '!I42 -> 0
A17: 5 | B17: ='Entry Form '!B43 -> 0 | C17: ='Entry Form '!C43 -> 0 | D17: ='Entry Form '!I43 -> 0
A18: 6 | B18: ='Entry Form '!B44 -> 0 | C18: ='Entry Form '!C44 -> 0 | D18: ='Entry Form '!I44 -> 0
A19: 7 | B19: ='Entry Form '!B45 -> 0 | C19: ='Entry Form '!C45 -> 0 | D19: ='Entry Form '!I45 -> 0
A20: 8 | B20: ='Entry Form '!B46 -> 0 | C20: ='Entry Form '!C46 -> 0 | D20: ='Entry Form '!I46 -> 0
A21: 9 | B21: ='Entry Form '!B47 -> 0 | C21: ='Entry Form '!C47 -> 0 | D21: ='Entry Form '!I47 -> 0
A22: 10 | B22: ='Entry Form '!B48 -> 0 | C22: ='Entry Form '!C48 -> 0 | D22: ='Entry Form '!I48 -> 0
A23: 11 | B23: ='Entry Form '!B49 -> 0 | C23: ='Entry Form '!C49 -> 0 | D23: ='Entry Form '!I49 -> 0
A24: 12 | B24: ='Entry Form '!B50 -> 0 | C24: ='Entry Form '!C50 -> 0 | D24: ='Entry Form '!I50 -> 0
... A32: 20 | B32: ='Entry Form '!B58 -> 0 | C32: ='Entry Form '!C58 -> 0 | D32: ='Entry Form '!I58 -> 0
